BEGIN:VCALENDAR
VERSION:2.0
PRODID:-//wp-events-plugin.com//7.2.3.1//EN
TZID:Europe/Vienna
X-WR-TIMEZONE:Europe/Vienna
BEGIN:VEVENT
UID:1@bmwolfurt.at
DTSTART;TZID=Europe/Vienna;VALUE=DATE:20210501
DTEND;TZID=Europe/Vienna;VALUE=DATE:20210502
DTSTAMP:20210305T185756Z
URL:https://bmwolfurt.at/?event=fruhjahrskonzert
SUMMARY:Frühjahrskonzert
DESCRIPTION:
END:VEVENT
BEGIN:VEVENT
UID:2@bmwolfurt.at
DTSTART;TZID=Europe/Vienna;VALUE=DATE:20210529
DTEND;TZID=Europe/Vienna;VALUE=DATE:20210530
DTSTAMP:20210305T185932Z
URL:https://bmwolfurt.at/?event=29-05-2021burgermusikhochzeit-diana-und-be
 nni
SUMMARY:Bürgermusik	Hochzeit Diana und Benni
DESCRIPTION:
END:VEVENT
BEGIN:VEVENT
UID:3@bmwolfurt.at
DTSTART;TZID=Europe/Vienna:20210916T200000
DTEND;TZID=Europe/Vienna:20210916T220000
DTSTAMP:20210911T115846Z
URL:https://bmwolfurt.at/?event=vollprobe
SUMMARY:Vollprobe
DESCRIPTION:Vollprobe der Bürgermusik Wolfurt
ATTACH;FMTTYPE=image/jpeg:/wp-content/uploads/2021/03/buergermusik_wolfurt
 __0007_DSC_0270-1.jpg
CATEGORIES:Vollprobe der Bürgermusik
END:VEVENT
BEGIN:VEVENT
UID:5@bmwolfurt.at
DTSTART;TZID=Europe/Vienna:20210919T140000
DTEND;TZID=Europe/Vienna:20210919T160000
DTSTAMP:20210911T120451Z
URL:https://bmwolfurt.at/?event=sagen-und-mythen-wolfurter-spaziergaenge
SUMMARY:Sagen und Mythen - Wolfurter Spaziergänge
DESCRIPTION:https://www.wolfurt.at/Wolfurter_Spaziergaenge_-_Sagen_und_Myth
 en
CATEGORIES:Jugendkapelle,Veranstaltung
END:VEVENT
BEGIN:VEVENT
UID:4@bmwolfurt.at
DTSTART;TZID=Europe/Vienna:20210923T200000
DTEND;TZID=Europe/Vienna:20210923T220000
DTSTAMP:20210911T120031Z
URL:https://bmwolfurt.at/?event=vollprobe-2
SUMMARY:Vollprobe
DESCRIPTION:Vollprobe der Bürgermusik Wolfurt
ATTACH;FMTTYPE=image/jpeg:/wp-content/uploads/2021/03/buergermusik_wolfurt
 __0007_DSC_0270-1.jpg
CATEGORIES:Bürgermusik,Vollprobe der Bürgermusik
END:VEVENT
BEGIN:VEVENT
UID:6@bmwolfurt.at
DTSTART;TZID=Europe/Vienna:20210928T200000
DTEND;TZID=Europe/Vienna:20210928T200000
DTSTAMP:20210911T120303Z
URL:https://bmwolfurt.at/?event=bk-probe
SUMMARY:BK Probe
DESCRIPTION:
CATEGORIES:Bauernkapelle
END:VEVENT
BEGIN:VEVENT
UID:7@bmwolfurt.at
DTSTART;TZID=Europe/Vienna:20211106T170000
DTEND;TZID=Europe/Vienna:20211106T190000
DTSTAMP:20211010T212353Z
URL:https://bmwolfurt.at/?event=konzert-im-klangraum-kirche-buergermusik-w
 olfurt
SUMMARY:Konzert im Klangraum Kirche Bürgermusik Wolfurt
DESCRIPTION:\nKonzert im Klangraum Kirche\nSamstag\, 06.11.2021 17:00 Uhr\n
 Pfarrkirche St. Nikolaus\nAuf dem Bühel7\n6922 Wolfurt\n\nNach längerer\
 , coronabedingter Pause präsentiert sich die Bürgermusik Wolfurt und ihr
 e Jugendkapelle dem interessierten Publikum mit einem Konzert „im Klangr
 aum Kirche“.\n\nWerke der Blasmusikliteratur\, die religiöse Themen auf
 greifen und philosophische Grundfragen unseres Daseins musikalisch bearbei
 ten\, sollen berühren und in unserem Inneren einen besonderen „Anklang
 “ finden.\n\nEs ist dies auch das erste Konzert unter der Leitung unsers
  neuen Kapellmeisters Michael Schöpf.\n\nEintritt: Freiwillige Spenden\n\
 n
CATEGORIES:Bürgermusik,Jugendkapelle,Veranstaltung
END:VEVENT
BEGIN:VEVENT
UID:8@bmwolfurt.at
DTSTART;TZID=Europe/Vienna;VALUE=DATE:20211231
DTEND;TZID=Europe/Vienna;VALUE=DATE:20220101
DTSTAMP:20211117T214033Z
URL:https://bmwolfurt.at/?event=silvesterblasen
SUMMARY:Silvesterblasen
DESCRIPTION:Traditionelles Neujahrsblasen der Bürgermusik Wolfurt. In klei
 nen Gruppen bespielen wir die unterschiedlichsten Orte in Wolfurt. Dabei g
 eben wir unter andern das Wolfurter und Rickenbacher Neujahrslied zum Be
 sten.   
CATEGORIES:Bürgermusik,Veranstaltung
END:VEVENT
BEGIN:VEVENT
UID:9@bmwolfurt.at
DTSTART;TZID=Europe/Vienna:20211231T120000
DTEND;TZID=Europe/Vienna:20211231T230000
DTSTAMP:20220111T204542Z
URL:https://bmwolfurt.at/?event=abgesagt-silversterblasen-2021-2022
SUMMARY:Abgesagt: Silversterblasen 2021-2022
DESCRIPTION:Silversterblasen 2021-2022
CATEGORIES:Bürgermusik,Veranstaltung
END:VEVENT
BEGIN:VEVENT
UID:60@bmwolfurt.at
DTSTART;TZID=Europe/Vienna:20220113T200000
DTEND;TZID=Europe/Vienna:20220113T220000
DTSTAMP:20220225T145240Z
URL:https://bmwolfurt.at/?event=vollprobe-12
SUMMARY:Vollprobe
DESCRIPTION:
CATEGORIES:Bürgermusik,Vollprobe der Bürgermusik
END:VEVENT
BEGIN:VEVENT
UID:11@bmwolfurt.at
DTSTART;TZID=Europe/Vienna:20220120T190000
DTEND;TZID=Europe/Vienna:20220120T210000
DTSTAMP:20220118T204730Z
URL:https://bmwolfurt.at/?event=vollprobe-3
SUMMARY:Satzprobe Holz/Blech getrennt
DESCRIPTION:
CATEGORIES:Bürgermusik,Vollprobe der Bürgermusik
END:VEVENT
BEGIN:VEVENT
UID:13@bmwolfurt.at
DTSTART;TZID=Europe/Vienna:20220125T200000
DTEND;TZID=Europe/Vienna:20220125T220000
DTSTAMP:20220118T205500Z
URL:https://bmwolfurt.at/?event=bk-probe-2
SUMMARY:BK Probe
DESCRIPTION:Probe der Bauernkapelle Wolfurt
CATEGORIES:Bauernkapelle
LOCATION:Vereinshaus Wolfurt\, Unterlinden 1\, Wolfurt\, 6922\, Österreich
X-APPLE-STRUCTURED-LOCATION;VALUE=URI;X-ADDRESS=Unterlinden 1\, Wolfurt\, 6
 922\, Österreich;X-APPLE-RADIUS=100;X-TITLE=Vereinshaus Wolfurt:geo:0,0
END:VEVENT
BEGIN:VEVENT
UID:12@bmwolfurt.at
DTSTART;TZID=Europe/Vienna:20220127T190000
DTEND;TZID=Europe/Vienna:20220127T220000
DTSTAMP:20220118T204805Z
URL:https://bmwolfurt.at/?event=satzprobe-holz-blech-getrennt
SUMMARY:Satzprobe Holz/Blech getrennt
DESCRIPTION:
CATEGORIES:Bürgermusik,Vollprobe der Bürgermusik
END:VEVENT
BEGIN:VEVENT
UID:14@bmwolfurt.at
DTSTART;TZID=Europe/Vienna:20220211T193000
DTEND;TZID=Europe/Vienna:20220211T220000
DTSTAMP:20220131T204923Z
URL:https://bmwolfurt.at/?event=generalversammlung
SUMMARY:Generalversammlung
DESCRIPTION:
CATEGORIES:Bauernkapelle,Bürgermusik,Jugendkapelle,Veranstaltung
LOCATION:Cubus Wolfurt\, Wälderstr. 5\, Wolfurt\, 6922\, Vorarlberg\, Öst
 erreich
X-APPLE-STRUCTURED-LOCATION;VALUE=URI;X-ADDRESS=Wälderstr. 5\, Wolfurt\, 6
 922\, Vorarlberg\, Österreich;X-APPLE-RADIUS=100;X-TITLE=Cubus Wolfurt:ge
 o:0,0
END:VEVENT
BEGIN:VEVENT
UID:26@bmwolfurt.at
DTSTART;TZID=Europe/Vienna:20220214T200000
DTEND;TZID=Europe/Vienna:20220214T220000
DTSTAMP:20220213T142727Z
URL:https://bmwolfurt.at/?event=registerprobe-klarinetten
SUMMARY:Registerprobe Klarinetten
DESCRIPTION:Registerprobe Klarinetten
CATEGORIES:Bürgermusik,Probe
END:VEVENT
BEGIN:VEVENT
UID:27@bmwolfurt.at
DTSTART;TZID=Europe/Vienna:20220217T190000
DTEND;TZID=Europe/Vienna:20220217T203000
DTSTAMP:20220213T142842Z
URL:https://bmwolfurt.at/?event=registerprobe-holz
SUMMARY:Registerprobe Holz
DESCRIPTION:Registerprobe Holz
CATEGORIES:Bürgermusik,Probe
END:VEVENT
BEGIN:VEVENT
UID:28@bmwolfurt.at
DTSTART;TZID=Europe/Vienna:20220217T213000
DTEND;TZID=Europe/Vienna:20220217T220000
DTSTAMP:20220213T142929Z
URL:https://bmwolfurt.at/?event=registerprobe-blech-und-schlagwerk
SUMMARY:Registerprobe Blech und Schlagwerk
DESCRIPTION:Registerprobe Blech und Schlagwerk
CATEGORIES:Bürgermusik,Probe
END:VEVENT
BEGIN:VEVENT
UID:47@bmwolfurt.at
DTSTART;TZID=Europe/Vienna:20220222T200000
DTEND;TZID=Europe/Vienna:20220222T220000
DTSTAMP:20220217T114404Z
URL:https://bmwolfurt.at/?event=bk-probe-13
SUMMARY:BK Probe
DESCRIPTION:Probe der Bauernkapelle Wolfurt.
CATEGORIES:Bauernkapelle
END:VEVENT
BEGIN:VEVENT
UID:29@bmwolfurt.at
DTSTART;TZID=Europe/Vienna:20220224T200000
DTEND;TZID=Europe/Vienna:20220224T220000
DTSTAMP:20220213T143041Z
URL:https://bmwolfurt.at/?event=vollprobe-4
SUMMARY:Vollprobe
DESCRIPTION:Vollprobe der Bürgermusik Wolfurt im Probelokal
CATEGORIES:Bürgermusik,Probe,Vollprobe der Bürgermusik
END:VEVENT
BEGIN:VEVENT
UID:41@bmwolfurt.at
DTSTART;TZID=Europe/Vienna:20220303T190000
DTEND;TZID=Europe/Vienna:20220303T203000
DTSTAMP:20220213T143902Z
URL:https://bmwolfurt.at/?event=registerprobe-holz-2
SUMMARY:Registerprobe Holz
DESCRIPTION:Registerprobe Holz
CATEGORIES:Bürgermusik,Probe
END:VEVENT
BEGIN:VEVENT
UID:43@bmwolfurt.at
DTSTART;TZID=Europe/Vienna:20220303T213000
DTEND;TZID=Europe/Vienna:20220303T220000
DTSTAMP:20220213T144018Z
URL:https://bmwolfurt.at/?event=registerprobe-blech-und-schlagwerk-2
SUMMARY:Registerprobe Blech und Schlagwerk
DESCRIPTION:Registerprobe Blech und Schlagwerk
CATEGORIES:Bürgermusik,Probe
END:VEVENT
BEGIN:VEVENT
UID:59@bmwolfurt.at
DTSTART;TZID=Europe/Vienna:20220305T190000
DTEND;TZID=Europe/Vienna:20220305T190000
DTSTAMP:20220225T144236Z
URL:https://bmwolfurt.at/?event=aechler-funken
SUMMARY:Ächler Funken
DESCRIPTION:
CATEGORIES:Bürgermusik,Veranstaltung
LOCATION:Spielplatz an der Ach\, Dammstraße\, Wolfurt\, 6922\, Österreich
X-APPLE-STRUCTURED-LOCATION;VALUE=URI;X-ADDRESS=Dammstraße\, Wolfurt\, 692
 2\, Österreich;X-APPLE-RADIUS=100;X-TITLE=Spielplatz an der Ach:geo:0,0
END:VEVENT
BEGIN:VEVENT
UID:61@bmwolfurt.at
DTSTART;TZID=Europe/Vienna:20220306T183000
DTEND;TZID=Europe/Vienna:20220306T183000
DTSTAMP:20220228T072853Z
URL:https://bmwolfurt.at/?event=rickenbacher-funken
SUMMARY:Rickenbacher Funken
DESCRIPTION:Abmarsch bei der Gabelung Wiesenweg- Weberstraße
CATEGORIES:Bürgermusik,Veranstaltung
END:VEVENT
BEGIN:VEVENT
UID:15@bmwolfurt.at
DTSTART;TZID=Europe/Vienna:20220308T190000
DTEND;TZID=Europe/Vienna:20220308T220000
DTSTAMP:20220213T141817Z
URL:https://bmwolfurt.at/?event=bk-probe-3
SUMMARY:BK Workshop mit Ernst Hutter
DESCRIPTION:Workshop der Bauernkapelle Wolfurt
CATEGORIES:Bauernkapelle
END:VEVENT
BEGIN:VEVENT
UID:67@bmwolfurt.at
DTSTART;TZID=Europe/Vienna:20220309T200000
DTEND;TZID=Europe/Vienna:20220309T200000
DTSTAMP:20220309T122932Z
URL:https://bmwolfurt.at/?event=registerprobe-posaunen
SUMMARY:Registerprobe Posaunen
DESCRIPTION:
END:VEVENT
BEGIN:VEVENT
UID:30@bmwolfurt.at
DTSTART;TZID=Europe/Vienna:20220310T200000
DTEND;TZID=Europe/Vienna:20220310T220000
DTSTAMP:20220213T143115Z
URL:https://bmwolfurt.at/?event=vollprobe-5
SUMMARY:Vollprobe
DESCRIPTION:Vollprobe der Bürgermusik Wolfurt im Probelokal
CATEGORIES:Bürgermusik,Probe,Vollprobe der Bürgermusik
END:VEVENT
BEGIN:VEVENT
UID:64@bmwolfurt.at
DTSTART;TZID=Europe/Vienna:20220314T170000
DTEND;TZID=Europe/Vienna:20220314T170000
DTSTAMP:20220309T122540Z
URL:https://bmwolfurt.at/?event=registerprobe-horn
SUMMARY:Registerprobe Horn
DESCRIPTION:
CATEGORIES:Bürgermusik,Probe
END:VEVENT
BEGIN:VEVENT
UID:65@bmwolfurt.at
DTSTART;TZID=Europe/Vienna:20220316T200000
DTEND;TZID=Europe/Vienna:20220316T200000
DTSTAMP:20220309T123022Z
URL:https://bmwolfurt.at/?event=registerprobe-tenor
SUMMARY:Registerprobe Tenor
DESCRIPTION:
CATEGORIES:Bürgermusik,Probe
END:VEVENT
BEGIN:VEVENT
UID:68@bmwolfurt.at
DTSTART;TZID=Europe/Vienna:20220317T200000
DTEND;TZID=Europe/Vienna:20220317T200000
DTSTAMP:20220311T122223Z
URL:https://bmwolfurt.at/?event=registerprobe-posaunen-2
SUMMARY:Registerprobe Posaunen
DESCRIPTION:
CATEGORIES:Bürgermusik,Probe
END:VEVENT
BEGIN:VEVENT
UID:66@bmwolfurt.at
DTSTART;TZID=Europe/Vienna:20220317T201500
DTEND;TZID=Europe/Vienna:20220317T201500
DTSTAMP:20220309T122853Z
URL:https://bmwolfurt.at/?event=registerprobe-klarinetten-2
SUMMARY:Registerprobe Klarinetten
DESCRIPTION:
END:VEVENT
BEGIN:VEVENT
UID:69@bmwolfurt.at
DTSTART;TZID=Europe/Vienna:20220318T130000
DTEND;TZID=Europe/Vienna:20220318T130000
DTSTAMP:20220311T122303Z
URL:https://bmwolfurt.at/?event=registerprobe-saxophon
SUMMARY:Registerprobe Saxophon
DESCRIPTION:
CATEGORIES:Bürgermusik,Probe
END:VEVENT
BEGIN:VEVENT
UID:50@bmwolfurt.at
DTSTART;TZID=Europe/Vienna:20220318T200000
DTEND;TZID=Europe/Vienna:20220318T220000
DTSTAMP:20220222T193802Z
URL:https://bmwolfurt.at/?event=registerprobe-floeten
SUMMARY:Registerprobe Flöten
DESCRIPTION:
CATEGORIES:Bürgermusik,Probe
END:VEVENT
BEGIN:VEVENT
UID:31@bmwolfurt.at
DTSTART;TZID=Europe/Vienna:20220324T200000
DTEND;TZID=Europe/Vienna:20220324T220000
DTSTAMP:20220213T143206Z
URL:https://bmwolfurt.at/?event=vollprobe-6
SUMMARY:Vollprobe
DESCRIPTION:Vollprobe der Bürgermusik Wolfurt im Probelokal
CATEGORIES:Bürgermusik,Probe,Vollprobe der Bürgermusik
END:VEVENT
BEGIN:VEVENT
UID:53@bmwolfurt.at
DTSTART;TZID=Europe/Vienna:20220330T190000
DTEND;TZID=Europe/Vienna:20220330T220000
DTSTAMP:20220309T134114Z
URL:https://bmwolfurt.at/?event=bk-probe-14
SUMMARY:BK Workshop mit Ernst Hutter
DESCRIPTION:Workshop der Bauernkapelle Wolfurt mit Ernst Hutter
CATEGORIES:Bauernkapelle
END:VEVENT
BEGIN:VEVENT
UID:32@bmwolfurt.at
DTSTART;TZID=Europe/Vienna:20220331T200000
DTEND;TZID=Europe/Vienna:20220331T220000
DTSTAMP:20220213T143223Z
URL:https://bmwolfurt.at/?event=vollprobe-7
SUMMARY:Vollprobe
DESCRIPTION:Vollprobe der Bürgermusik Wolfurt im Probelokal
CATEGORIES:Bürgermusik,Probe,Vollprobe der Bürgermusik
END:VEVENT
BEGIN:VEVENT
UID:46@bmwolfurt.at
DTSTART;TZID=Europe/Vienna:20220401T190000
DTEND;TZID=Europe/Vienna:20220401T220000
DTSTAMP:20220329T165441Z
URL:https://bmwolfurt.at/?event=probewochenende
SUMMARY:Probewochenende
DESCRIPTION:Probewochenende der Bürgermusik Wolfurt im Probelokal.\n\nFrei
 tag 1.4.:\n19:00 - 22:00 Vollprobe (mit Pause)\n\nSamstag 2.4.:\n9:30 - 12
 :45 Vollprobe (mit Pause )\n13:00 - 14:00 Mittagspause\n14:00- 15:30 Vollp
 robe
CATEGORIES:Bürgermusik,Probe,Vollprobe der Bürgermusik
END:VEVENT
BEGIN:VEVENT
UID:70@bmwolfurt.at
DTSTART;TZID=Europe/Vienna:20220402T093000
DTEND;TZID=Europe/Vienna:20220402T160000
DTSTAMP:20220329T165514Z
URL:https://bmwolfurt.at/?event=probewochenende-2
SUMMARY:Probewochenende
DESCRIPTION:Probewochenende der Bürgermusik Wolfurt im Probelokal.\n\nFrei
 tag 1.4.:\n19:00 - 22:00 Vollprobe (mit Pause)\n\nSamstag 2.4.:\n9:30 - 12
 :45 Vollprobe (mit Pause )\n13:00 - 14:00 Mittagspause\n14:00- 15:30 Vollp
 robe
CATEGORIES:Bürgermusik,Probe,Vollprobe der Bürgermusik
END:VEVENT
BEGIN:VEVENT
UID:16@bmwolfurt.at
DTSTART;TZID=Europe/Vienna:20220405T200000
DTEND;TZID=Europe/Vienna:20220405T230000
DTSTAMP:20220213T142329Z
URL:https://bmwolfurt.at/?event=bk-probe-4
SUMMARY:BK Probe
DESCRIPTION:Probe der Bauernkapelle Wolfurt
CATEGORIES:Bauernkapelle
END:VEVENT
BEGIN:VEVENT
UID:33@bmwolfurt.at
DTSTART;TZID=Europe/Vienna:20220407T200000
DTEND;TZID=Europe/Vienna:20220407T220000
DTSTAMP:20220213T143244Z
URL:https://bmwolfurt.at/?event=vollprobe-8
SUMMARY:Vollprobe
DESCRIPTION:Vollprobe der Bürgermusik Wolfurt im Probelokal
CATEGORIES:Bürgermusik,Probe,Vollprobe der Bürgermusik
END:VEVENT
BEGIN:VEVENT
UID:34@bmwolfurt.at
DTSTART;TZID=Europe/Vienna:20220414T200000
DTEND;TZID=Europe/Vienna:20220414T220000
DTSTAMP:20220213T143310Z
URL:https://bmwolfurt.at/?event=vollprobe-9
SUMMARY:Vollprobe
DESCRIPTION:Vollprobe der Bürgermusik Wolfurt im Probelokal.
CATEGORIES:Bürgermusik,Probe,Vollprobe der Bürgermusik
END:VEVENT
BEGIN:VEVENT
UID:42@bmwolfurt.at
DTSTART;TZID=Europe/Vienna:20220419T190000
DTEND;TZID=Europe/Vienna:20220419T203000
DTSTAMP:20220213T143934Z
URL:https://bmwolfurt.at/?event=registerprobe-holz-3
SUMMARY:Registerprobe Holz
DESCRIPTION:Registerprobe Holz
CATEGORIES:Bürgermusik,Probe
END:VEVENT
BEGIN:VEVENT
UID:44@bmwolfurt.at
DTSTART;TZID=Europe/Vienna:20220419T213000
DTEND;TZID=Europe/Vienna:20220419T220000
DTSTAMP:20220213T144042Z
URL:https://bmwolfurt.at/?event=registerprobe-blech-und-schlagwerk-3
SUMMARY:Registerprobe Blech und Schlagwerk
DESCRIPTION:Registerprobe Blech und Schlagwerk
CATEGORIES:Bürgermusik,Probe
END:VEVENT
BEGIN:VEVENT
UID:35@bmwolfurt.at
DTSTART;TZID=Europe/Vienna:20220421T200000
DTEND;TZID=Europe/Vienna:20220421T220000
DTSTAMP:20220213T143425Z
URL:https://bmwolfurt.at/?event=vollprobe-10
SUMMARY:Vollprobe
DESCRIPTION:Vollprobe der Bürgermusik Wolfurt im Probelokal.
CATEGORIES:Bürgermusik,Probe,Vollprobe der Bürgermusik
END:VEVENT
BEGIN:VEVENT
UID:36@bmwolfurt.at
DTSTART;TZID=Europe/Vienna:20220426T200000
DTEND;TZID=Europe/Vienna:20220426T220000
DTSTAMP:20220213T143501Z
URL:https://bmwolfurt.at/?event=vollprobe-11
SUMMARY:Vollprobe
DESCRIPTION:Vollprobe der Bürgermusik Wolfurt im Probelokal.
CATEGORIES:Bürgermusik,Probe,Vollprobe der Bürgermusik
END:VEVENT
BEGIN:VEVENT
UID:37@bmwolfurt.at
DTSTART;TZID=Europe/Vienna:20220429T200000
DTEND;TZID=Europe/Vienna:20220429T220000
DTSTAMP:20220228T102019Z
URL:https://bmwolfurt.at/?event=generalprobe
SUMMARY:Generalprobe
DESCRIPTION:Generalprobe im Cubus
CATEGORIES:Bürgermusik,Probe,Vollprobe der Bürgermusik
LOCATION:Cubus Wolfurt\, Wälderstr. 5\, Wolfurt\, 6922\, Vorarlberg\, Öst
 erreich
X-APPLE-STRUCTURED-LOCATION;VALUE=URI;X-ADDRESS=Wälderstr. 5\, Wolfurt\, 6
 922\, Vorarlberg\, Österreich;X-APPLE-RADIUS=100;X-TITLE=Cubus Wolfurt:ge
 o:0,0
END:VEVENT
BEGIN:VEVENT
UID:10@bmwolfurt.at
DTSTART;TZID=Europe/Vienna:20220430T200000
DTEND;TZID=Europe/Vienna:20220430T220000
DTSTAMP:20220426T100858Z
URL:https://bmwolfurt.at/?event=fruehjahrskonzert-2022
SUMMARY:Frühjahrskonzert 2022
DESCRIPTION:Frühjahrskonzert 2022\n\nUnter dem Motto: Die vier Elemente: E
 rde freut sich die Bürgermusik Wolfurt mit der Jugendkapelle am 30.April 
 2022 um 20:00 Uhr im Cubus zum Konzert zu laden.
CATEGORIES:Bürgermusik,Jugendkapelle,Konzert,Veranstaltung
LOCATION:Cubus Wolfurt\, Wälderstr. 5\, Wolfurt\, 6922\, Vorarlberg\, Öst
 erreich
X-APPLE-STRUCTURED-LOCATION;VALUE=URI;X-ADDRESS=Wälderstr. 5\, Wolfurt\, 6
 922\, Vorarlberg\, Österreich;X-APPLE-RADIUS=100;X-TITLE=Cubus Wolfurt:ge
 o:0,0
END:VEVENT
BEGIN:VEVENT
UID:45@bmwolfurt.at
DTSTART;TZID=Europe/Vienna:20220501T083000
DTEND;TZID=Europe/Vienna:20220501T110000
DTSTAMP:20220213T144304Z
URL:https://bmwolfurt.at/?event=erstkommunion
SUMMARY:Erstkommunion
DESCRIPTION:Erste Zusammenkunft 08:30 Uhr\n\nZweite Zusammenkunft 10:30 Uhr
CATEGORIES:Bürgermusik,Konzert,Veranstaltung
END:VEVENT
BEGIN:VEVENT
UID:25@bmwolfurt.at
DTSTART;TZID=Europe/Vienna:20220501T100000
DTEND;TZID=Europe/Vienna:20220501T113000
DTSTAMP:20220329T165648Z
URL:https://bmwolfurt.at/?event=tag-der-blasmusik
SUMMARY:Tag der Blasmusik - Ständle im Seniorenheim
DESCRIPTION:Tag der Blasmusik\n\nStändle im Seniorenheim
CATEGORIES:Bürgermusik,Konzert,Veranstaltung
END:VEVENT
BEGIN:VEVENT
UID:17@bmwolfurt.at
DTSTART;TZID=Europe/Vienna:20220503T200000
DTEND;TZID=Europe/Vienna:20220503T230000
DTSTAMP:20220213T141900Z
URL:https://bmwolfurt.at/?event=bk-probe-5
SUMMARY:BK Probe
DESCRIPTION:Probe der Bauernkapelle Wolfurt
CATEGORIES:Bauernkapelle
END:VEVENT
BEGIN:VEVENT
UID:48@bmwolfurt.at
DTSTART;TZID=Europe/Vienna:20220505T200000
DTEND;TZID=Europe/Vienna:20220505T200000
DTSTAMP:20220223T210905Z
URL:https://bmwolfurt.at/?event=vollprobe-15
SUMMARY:Vollprobe
DESCRIPTION:Vollprobe der Bürgermusik Wolfurt.
CATEGORIES:Bürgermusik,Probe
END:VEVENT
BEGIN:VTIMEZONE
TZID:Europe/Vienna
X-LIC-LOCATION:Europe/Vienna
BEGIN:DAYLIGHT
DTSTART:20210328T030000
TZOFFSETFROM:+0100
TZOFFSETTO:+0200
TZNAME:CEST
END:DAYLIGHT
BEGIN:STANDARD
DTSTART:20211031T020000
TZOFFSETFROM:+0200
TZOFFSETTO:+0100
TZNAME:CET
END:STANDARD
BEGIN:DAYLIGHT
DTSTART:20220327T030000
TZOFFSETFROM:+0100
TZOFFSETTO:+0200
TZNAME:CEST
END:DAYLIGHT
END:VTIMEZONE
END:VCALENDAR